Workbook
Name _Hlk34300669: June!$K$69
Name Component: "Group"
Name FX_RATE: June!$C$249
Name pbCountingPages: FALSE

Sheet June
A1: MONTHLY UPDATE ON REGISTERED MUTUAL FUNDS AS AT 30TH JUNE, 2026
A2: S/N | B2: FUND | C2: FUND MANAGER | D2: TOTAL VALUE OF INVESTMENT (N) | E2: TOTAL INCOME (N) | F2: UNREALIZED CAPITAL GAIN/LOSS (N) | G2: TOTAL EXPENSES (N) | H2: NET INCOME/LOSS (N) | I2: NET ASSET VALUE (N) PREVIOUS - MAY | J2: % ON TOTAL | K2: NET ASSET VALUE (N) | L2: % ON TOTAL | M2: % CHANGE IN NAV | N2: EXPENSE RATIO | O2: RETURN ON EQUITY (ROE) | P2: NET ASSET PER UNIT | Q2: EARNINGS PER UNIT (EPU) | R2: BID PRICE (N) | S2: OFFER PRICE (N) | T2: NUMBER OF UNIT HOLDERS | U2: OPENING NUMBER OF UNITS | V2: CLOSING NUMBER OF UNITS
A4: EQUITY BASED FUNDS
A5: 1 | B5: Afrinvest Equity Fund | C5: Afrinvest Asset Management Ltd. | D5: 1.1683667e+10 | E5: 39969392 | F5: 3.2852615e+09 | G5: 22097891 | H5: =(E5+F5)-G5 -> 3.303133e+09 | I5: 1.5450535e+10 | J5: =(I5/$I$25) -> 0.058961147 | K5: 1.1713063e+10 | L5: =(K5/$K$25) -> 0.051223172 | M5: =((K5-I5)/I5) -> -0.24189919 | N5: =(G5/K5) -> 0.0018866022 | O5: =H5/K5 -> 0.2820042 | P5: =K5/V5 -> 836.14429 | Q5: =H5/V5 -> 235.7962 | R5: 836.14 | S5: 846.11 | T5: 1715 | U5: 16604368 | V5: 14008423
A6: 2 | B6: Anchoria Equity Fund | C6: Anchoria Asset Management Limited | D6: 2016408907 | E6: 2478868 | F6: 8.24596e+08 | G6: 3071571.5 | H6: =(E6+F6)-G6 -> 8.240033e+08 | I6: 2.6678108e+09 | J6: =(I6/$I$25) -> 0.010180695 | K6: 2.0390861e+09 | L6: =(K6/$K$25) -> 0.0089172626 | M6: =((K6-I6)/I6) -> -0.23567064 | N6: =(G6/K6) -> 0.0015063471 | O6: =H6/K6 -> 0.40410422 | P6: =K6/V6 -> 563.74745 | Q6: =H6/V6 -> 227.81272 | R6: 549.61 | S6: 557.62 | T6: 625 | U6: 4183130 | V6: 3617020.6
A7: 3 | B7: ARM Aggressive Growth Fund | C7: ARM Investment Managers Limited | D7: 16753306412 | E7: 171375414 | F7: -2471181828 | G7: 263143844 | H7: =(E7+F7)-G7 -> -2562950258 | I7: 18230982660 | J7: =(I7/$I$25) -> 0.069571679 | K7: 18200475206 | L7: =(K7/$K$25) -> 0.079593704 | M7: =((K7-I7)/I7) -> -0.0016733851 | N7: =(G7/K7) -> 0.014458075 | O7: =H7/K7 -> -0.14081777 | P7: =K7/V7 -> 69.573379 | Q7: =H7/V7 -> -9.7971678 | R7: 69.2255 | S7: 71.3127 | T7: 12471 | U7: 271765093 | V7: 261601138
A8: 4 | B8: AXA Mansard Equity Income Fund | C8: AXA Mansard Investments Limited | D8: 2.3969706e+09 | E8: 349431.49 | F8: 5.1784878e+08 | G8: 4583944.8 | H8: =(E8+F8)-G8 -> 5.1361427e+08 | I8: 3.2497877e+09 | J8: =(I8/$I$25) -> 0.012401591 | K8: 3.061318e+09 | L8: =(K8/$K$25) -> 0.013387653 | M8: =((K8-I8)/I8) -> -0.057994467 | N8: =(G8/K8) -> 0.0014973762 | O8: =H8/K8 -> 0.16777554 | P8: =K8/V8 -> 354.84067 | Q8: =H8/V8 -> 59.533583 | R8: 353.0665 | S8: 356.6149 | T8: 2711 | U8: 8504064.9 | V8: 8627303.1
A9: 5 | B9: CardinalStone Equity Fund | C9: CardinalStone Asset Mgt. Limited | D9: 1.1765447e+10 | E9: 1.1744922e+08 | F9: -1.3030402e+09 | G9: 15215145 | H9: =(E9+F9)-G9 -> -1.2008061e+09 | I9: 1.2549063e+10 | J9: =(I9/$I$25) -> 0.047888772 | K9: 1.2025212e+10 | L9: =(K9/$K$25) -> 0.052588252 | M9: =((K9-I9)/I9) -> -0.041744224 | N9: =(G9/K9) -> 0.0012652704 | O9: =H9/K9 -> -0.099857375 | P9: =K9/V9 -> 2.7831995 | Q9: =H9/V9 -> -0.277923 | R9: 27840 | S9: 2.7818 | T9: 2864 | U9: 4.1093353e+09 | V9: 4.3206432e+09
A10: 6 | B10: Cowry Equity Fund | C10: Cowry Treasurers Limited | D10: 6.8038338e+08 | E10: 15158578 | F10: 1.8951802e+08 | G10: 1031427.8 | H10: =(E10+F10)-G10 -> 2.0364517e+08 | I10: 7.7814985e+08 | J10: =(I10/$I$25) -> 0.0029695158 | K10: 6.7590371e+08 | L10: =(K10/$K$25) -> 0.0029558393 | M10: =((K10-I10)/I10) -> -0.13139646 | N10: =(G10/K10) -> 0.0015259982 | O10: =H10/K10 -> 0.30129316 | P10: =K10/V10 -> 364.4586 | Q10: =H10/V10 -> 109.80888 | R10: 364.46 | S10: 367.75 | T10: 204 | U10: 2397718.8 | V10: 1854541.8
A11: 7 | B11: FCMBAM Equity Fund | C11: FCMB Asset Management Limited | D11: 4.018529e+09 | E11: 15439597 | G11: 7112766.7 | H11: =(E11+F11)-G11 -> 8326830.5 | I11: 4.3232518e+09 | J11: =(I11/$I$25) -> 0.016498062 | K11: 3.9869154e+09 | L11: =(K11/$K$25) -> 0.017435444 | M11: =((K11-I11)/I11) -> -0.077797084 | N11: =(G11/K11) -> 0.0017840275 | O11: =H11/K11 -> 0.0020885396 | P11: =K11/V11 -> 7.744267 | Q11: =H11/V11 -> 0.016174208 | R11: 7.64 | S11: 7.79 | T11: 3844 | U11: 509051577 | V11: 5.1482153e+08
A12: 8 | B12: First Asset Nigeria Smart Beta Equity Fund | C12: First Asset Management Limited | D12: 6.877062e+09 | E12: 26393806 | F12: -4.8613352e+08 | G12: 11383698 | H12: =(E12+F12)-G12 -> -4.7112341e+08 | I12: 6.755317e+09 | J12: =(I12/$I$25) -> 0.025779123 | K12: 6.7892625e+09 | L12: =(K12/$K$25) -> 0.029690574 | M12: =((K12-I12)/I12) -> 0.0050250187 | N12: =(G12/K12) -> 0.0016767209 | O12: =H12/K12 -> -0.069392428 | P12: =K12/V12 -> 609.39471 | Q12: =H12/V12 -> -42.287379 | R12: 609.39 | S12: 617.35 | T12: 2893 | U12: 10468921 | V12: 11140994
A13: 9 | B13: Frontier Fund | C13: SCM Capital Limited | D13: 6.0287213e+08 | E13: 25941721 | F13: 65549140 | G13: 1843526.5 | H13: =(E13+F13-G13) -> 89647335 | I13: 6.4558774e+08 | J13: =(I13/$I$25) -> 0.0024636425 | K13: 5.7142377e+08 | L13: =(K13/$K$25) -> 0.0024989311 | M13: =((K13-I13)/I13) -> -0.11487823 | N13: =(G13/K13) -> 0.0032261985 | O13: =H13/K13 -> 0.15688415 | P13: =K13/V13 -> 285.43002 | Q13: =H13/V13 -> 44.779448 | R13: 285.43 | S13: 297.37 | T13: 2475 | U13: 2001975 | V13: 2001975
A14: 10 | B14: Futureview Equity Fund | C14: Futureview Asset Management Limited | D14: 157027637 | E14: 1185139.5 | F14: 31479186 | G14: 3973532.2 | H14: =(E14+F14)-G14 -> 28690793 | I14: 1.5803941e+08 | J14: =(I14/$I$25) -> 0.00060309788 | K14: 1.6390128e+08 | L14: =(K14/$K$25) -> 0.00071676753 | M14: =((K14-I14)/I14) -> 0.037091187 | N14: =(G14/K14) -> 0.024243449 | O14: =H14/K14 -> 0.17504924 | P14: =K14/V14 -> 493.222 | Q14: =H14/V14 -> 86.338135 | R14: 484.45 | S14: 500.7 | T14: 58 | U14: 298354.93 | V14: 332307.31
A15: 11 | B15: Guaranty Trust Equity Income Fund | C15: Guaranty Trust Fund Managers Limited | D15: 2.0355017e+10 | E15: 45736575 | F15: 2.4517553e+09 | G15: 39024773 | H15: =(E15+F15)-G15 -> 2.4584672e+09 | I15: 2.4295875e+10 | J15: =(I15/$I$25) -> 0.092716056 | K15: 20296188148 | L15: =(K15/$K$25) -> 0.088758605 | M15: =((K15-I15)/I15) -> -0.16462411 | N15: =(G15/K15) -> 0.0019227637 | O15: =H15/K15 -> 0.1211295 | P15: =K15/V15 -> 5.3962853 | Q15: =H15/V15 -> 0.65364935 | R15: 5.39 | S15: 5.46 | T15: 13505 | U15: 4.026687e+09 | V15: 3.7611407e+09
A16: 12 | B16: Halo Equity Fund | C16: Halo Nigeria Capital Management Limited | D16: 1.9333491e+08 | E16: 33320301 | F16: 0 | G16: 2383448.9 | H16: =(E16+F16)-G16 -> 30936852 | I16: 5.5714856e+08 | J16: =(I16/$I$25) -> 0.0021261476 | K16: 4.7947026e+08 | L16: =(K16/$K$25) -> 0.0020968031 | M16: =((K16-I16)/I16) -> -0.13942117 | N16: =(G16/K16) -> 0.0049710047 | O16: =H16/K16 -> 0.064522985 | P16: =K16/V16 -> 43.864475 | Q16: =H16/V16 -> 2.8302669 | R16: 43.864475 | S16: 44.31619 | T16: 117 | U16: 11765228 | V16: 10930719
A17: 13 | B17: Meristem Equity Market Fund | C17: Meristem Wealth Management Limited | D17: 9.6891471e+09 | E17: 22862347 | F17: -1.183944e+09 | G17: 14510847 | H17: =(E17+F17)-G17 -> -1.1755925e+09 | I17: 1.1441421e+10 | J17: =(I17/$I$25) -> 0.043661872 | K17: 9.5411417e+09 | L17: =(K17/$K$25) -> 0.041724999 | M17: =((K17-I17)/I17) -> -0.16608767 | N17: =(G17/K17) -> 0.0015208711 | O17: =H17/K17 -> -0.12321298 | P17: =K17/V17 -> 44.270985 | Q17: =H17/V17 -> -5.45476 | R17: 43.79 | S17: 44.11 | T17: 2356 | U17: 2.3600331e+08 | V17: 2.1551682e+08
A18: 14 | B18: Pacam Equity Fund | C18: PAC Asset Management Ltd. | D18: 3.7732469e+08 | E18: 2721934.6 | F18: 1.5348233e+08 | G18: 536008.69 | H18: =(E18+F18)-G18 -> 1.5566825e+08 | I18: 3.4711084e+08 | J18: =(I18/$I$25) -> 0.0013246178 | K18: 4.0558237e+08 | L18: =(K18/$K$25) -> 0.0017736791 | M18: =((K18-I18)/I18) -> 0.16845202 | N18: =(G18/K18) -> 0.0013215779 | O18: =H18/K18 -> 0.38381415 | P18: =K18/V18 -> 3.6582129 | Q18: =H18/V18 -> 1.4040739 | R18: 3.01 | S18: 3.06 | T18: 45 | U18: 1.08114e+08 | V18: 1.1086899e+08
A19: 15 | B19: Paramount Equity Fund | C19: Chapel Hill Denham Mgt. Limited | D19: 2.1096928e+10 | E19: 4.0367253e+08 | F19: -5.0315963e+09 | G19: 39525974 | H19: =(E19+F19)-G19 -> -4.6674498e+09 | I19: 2.576255e+10 | J19: =(I19/$I$25) -> 0.098313069 | K19: 2.0982432e+10 | L19: =(K19/$K$25) -> 0.091759664 | M19: =((K19-I19)/I19) -> -0.18554521 | N19: =(G19/K19) -> 0.0018837651 | O19: =H19/K19 -> -0.2224456 | P19: =K19/V19 -> 66.117475 | Q19: =H19/V19 -> -14.707542 | R19: 66.1175 | S19: 66.4783 | T19: 17164 | U19: 328440391 | V19: 317350780
A20: 16 | B20: Stanbic IBTC Aggressive Fund (Sub Fund) | C20: Stanbic IBTC Asset Mgt. Limited | D20: 4.2384352e+09 | E20: 63248510 | F20: -5.8217613e+08 | G20: 6467213.9 | H20: =(E20+F20)-G20 -> -5.2539483e+08 | I20: 3.5660189e+09 | J20: =(I20/$I$25) -> 0.013608368 | K20: 4.2556647e+09 | L20: =(K20/$K$25) -> 0.018610729 | M20: =((K20-I20)/I20) -> 0.19339376 | N20: =(G20/K20) -> 0.0015196718 | O20: =H20/K20 -> -0.12345776 | P20: =K20/V20 -> 16315.022 | Q20: =H20/V20 -> -2014.216 | R20: 16177.94 | S20: 16408.97 | T20: 88 | U20: 286639.43 | V20: 260843.34
A21: 17 | B21: Stanbic IBTC Nigerian Equity Fund | C21: Stanbic IBTC Asset Mgt. Limited | D21: 6.5229631e+10 | E21: 1.6302934e+09 | F21: -7.2527603e+09 | G21: 2.3999017e+08 | H21: =(E21+F21)-G21 -> -5.8624571e+09 | I21: 7.7321217e+10 | J21: =(I21/$I$25) -> 0.2950673 | K21: 6.6227835e+10 | L21: =(K21/$K$25) -> 0.28962533 | M21: =((K21-I21)/I21) -> -0.14347139 | N21: =(G21/K21) -> 0.0036237055 | O21: =H21/K21 -> -0.088519535 | P21: =K21/V21 -> 59237.412 | Q21: =H21/V21 -> -5243.6681 | R21: 58794.95 | S21: 59540.66 | T21: 33242 | U21: 1187382.6 | V21: 1118006.9
A22: 18 | B22: United Capital Equity Fund | C22: United Capital Asset Mgt. Ltd | D22: 14879426011 | E22: 77949413 | F22: -1543572491 | G22: 28556257 | H22: =(E22+F22)-G22 -> -1494179335 | I22: 1.8891089e+10 | J22: =(I22/$I$25) -> 0.072090727 | K22: 16886569563 | L22: =(K22/$K$25) -> 0.073847776 | M22: =((K22-I22)/I22) -> -0.10610927 | N22: =(G22/K22) -> 0.0016910632 | O22: =H22/K22 -> -0.088483296 | P22: =K22/V22 -> 2.6800253 | Q22: =H22/V22 -> -0.23713747 | R22: 5.36 | S22: 2.7 | T22: 4651 | U22: 6545853407 | V22: 6.3008994e+09
A23: 19 | B23: Zedcrest Equity Fund | C23: Zedcrest Investment Managers Limited | D23: 8.38428e+09 | E23: 3.3484852e+08 | F23: -1.6003636e+09 | G23: 17161661 | H23: =(E23+F23)-G23 -> -1.2826768e+09 | I23: 1.178658e+10 | J23: =(I23/$I$25) -> 0.044979042 | K23: 8.3164919e+09 | L23: =(K23/$K$25) -> 0.036369402 | M23: =((K23-I23)/I23) -> -0.29441008 | N23: =(G23/K23) -> 0.0020635698 | O23: =H23/K23 -> -0.15423291 | P23: =K23/V23 -> 1.8617433 | Q23: =H23/V23 -> -0.28714209 | R23: 1.8617 | S23: 1.8876 | T23: 1655 | U23: 6175725877 | V23: 4467045451
A24: 20 | B24: Zrosk Magna Equity Fund | C24: Zrosk Investment Management Limited | D24: 22466578668 | E24: 72454403 | F24: -2.4934894e+09 | G24: 46085866 | H24: =(E24+F24)-G24 -> -2.4671208e+09 | I24: 23268501583 | J24: =(I24/$I$25) -> 0.088795472 | K24: 22049336149 | L24: =(K24/$K$25) -> 0.096425413 | M24: =((K24-I24)/I24) -> -0.052395528 | N24: =(G24/K24) -> 0.0020901249 | O24: =H24/K24 -> -0.11189094 | P24: =K24/V24 -> 330.33277 | Q24: =H24/V24 -> -36.961242 | R24: 327.05 | S24: 332.6 | T24: 183 | U24: 63890057 | V24: 66748862
A25: Sub Total | I25: =SUM(I5:I24) -> 2.6204604e+11 | J25: =(I25/$I$247) -> 0.028940499 | K25: =SUM(K5:K24) -> 2.2866727e+11 | L25: =(K25/$K$247) -> 0.024874486 | M25: =((K25-I25)/I25) -> -0.12737748 | T25: =SUM(T5:T24) -> 102866
A27: MONEY MARKET FUNDS
A28: 21 | B28: Afrinvest Plutus Fund | C28: Afrinvest Asset Management Ltd. | D28: 6.7646511e+09 | E28: 92065507 | F28: 0 | G28: 11326165 | H28: =(E28+F28)-G28 -> 80739342 | I28: 5.8923436e+09 | J28: =(I28/$I$75) -> 0.0010096339 | K28: 6.5603831e+09 | L28: =(K28/$K$75) -> 0.0010913694 | M28: =((K28-I28)/I28) -> 0.11337416 | N28: =(G28/K28) -> 0.0017264488 | O28: =H28/K28 -> 0.012307108 | P28: =K28/V28 -> 100.23337 | Q28: =H28/V28 -> 1.2335828 | R28: 100 | S28: 100 | T28: 926 | U28: 58770370 | V28: 65451091
A29: 22 | B29: AIICO Money Market Fund | C29: AIICO Capital Ltd | D29: 4.2057363e+10 | E29: 7.1346012e+08 | F29: 0 | G29: 65738483 | H29: =(E29+F29)-G29 -> 6.4772164e+08 | I29: 4.0910525e+10 | J29: =(I29/$I$75) -> 0.0070098852 | K29: 4.2779092e+10 | L29: =(K29/$K$75) -> 0.0071166258 | M29: =((K29-I29)/I29) -> 0.045674488 | N29: =(G29/K29) -> 0.0015366965 | O29: =H29/K29 -> 0.01514108 | P29: =K29/V29 -> 104.10253 | Q29: =H29/V29 -> 1.5762247 | R29: 100 | S29: 100 | T29: 5218 | U29: 3.9774364e+08 | V29: 4.1093229e+08
A30: 23 | B30: Alpha10 Money Market Fund | C30: Alpha10 Fund Management Limited | D30: 1.1355245e+09 | E30: 29534188 | F30: 0 | G30: 3341122 | H30: =(E30+F30)-G30 -> 26193066 | I30: 1.6985068e+09 | J30: =(I30/$I$75) -> 0.00029103362 | K30: 2.1099917e+09 | L30: =(K30/$K$75) -> 0.00035101308 | M30: =((K30-I30)/I30) -> 0.24226268 | N30: =(G30/K30) -> 0.0015834764 | O30: =H30/K30 -> 0.012413824 | P30: =K30/V30 -> 0.99827745 | Q30: =H30/V30 -> 0.012392441 | R30: 1 | S30: 1 | T30: 223 | U30: 1705478144 | V30: 2113632495
A31: 24 | B31: Anchoria Money Market Fund | C31: Anchoria Asset Management Limited | D31: 3.90292e+09 | E31: 53825422 | F31: 0 | G31: 4927251.9 | H31: =(E31+F31)-G31 -> 48898170 | I31: 3.612153e+09 | J31: =(I31/$I$75) -> 0.00061893066 | K31: 4.0073418e+09 | L31: =(K31/$K$75) -> 0.00066665164 | M31: =((K31-I31)/I31) -> 0.10940533 | N31: =(G31/K31) -> 0.0012295562 | O31: =H31/K31 -> 0.012202146 | P31: =K31/V31 -> 127.46677 | Q31: =H31/V31 -> 1.5553682 | R31: 100 | S31: 100 | T31: 2068 | U31: 28357655 | V31: 31438325
A32: 25 | B32: Apel Wealth Money Market Fund | C32: Apel Wealth Management Limited | D32: 6.1869324e+08 | E32: 33138152 | F32: 0 | G32: 6064317.5 | H32: =(E32+F32)-G32 -> 27073835 | I32: 1.3806697e+09 | J32: =(I32/$I$75) -> 0.00023657326 | K32: 1.3943392e+09 | L32: =(K32/$K$75) -> 0.00023195889 | M32: =((K32-I32)/I32) -> 0.00990063 | N32: =(G32/K32) -> 0.0043492411 | O32: =H32/K32 -> 0.019416964 | P32: =K32/V32 -> 100 | Q32: =H32/V32 -> 1.9416964 | R32: 100 | S32: 100 | T32: 175 | U32: 13806697 | V32: 13943392
A33: 26 | B33: ARM Money Market Fund | C33: ARM Investment Managers Limited | D33: 164698488679 | E33: 6327291917 | F33: 0 | G33: 6327291917 | H33: =(E33+F33)-G33 -> 0 | I33: 405313077838 | J33: =(I33/$I$75) -> 0.069449076 | K33: 417819034405 | L33: =(K33/$K$75) -> 0.069507359 | M33: =((K33-I33)/I33) -> 0.030855053 | N33: =(G33/K33) -> 0.015143618 | O33: =H33/K33 -> 0 | P33: =K33/V33 -> 1 | Q33: =H33/V33 -> 0 | R33: 1 | S33: 1 | T33: 86739 | U33: 409672165072 | V33: 417819034405
A34: 27 | B34: AVA GAM Money Market Fund | C34: AVA Global Asset Managers Limited | D34: 1.261698e+09 | E34: 39647206 | F34: 0 | G34: 4637039.6 | H34: =(E34+F34)-G34 -> 35010166 | I34: 2.1463378e+09 | J34: =(I34/$I$75) -> 0.000367768 | K34: 2.1299579e+09 | L34: =(K34/$K$75) -> 0.00035433462 | M34: =((K34-I34)/I34) -> -0.007631572 | N34: =(G34/K34) -> 0.0021770569 | O34: =H34/K34 -> 0.016437023 | P34: =K34/V34 -> 0.94730251 | Q34: =H34/V34 -> 0.015570833 | R34: 1 | S34: 1 | T34: 419 | U34: 2241725075 | V34: 2248445345
A35: 28 | B35: AXA Mansard Money Market Fund | C35: AXA Mansard Investments Limited | D35: 4.9570563e+10 | E35: 2.4531369e+09 | F35: 0 | G35: 2.2906512e+08 | H35: =(E35+F35)-G35 -> 2.2240717e+09 | I35: 1.727699e+11 | J35: =(I35/$I$75) -> 0.02960356 | K35: 1.7618341e+11 | L35: =(K35/$K$75) -> 0.029309443 | M35: =((K35-I35)/I35) -> 0.019757526 | N35: =(G35/K35) -> 0.0013001515 | O35: =H35/K35 -> 0.012623616 | P35: =K35/V35 -> 1.0382366 | Q35: =H35/V35 -> 0.013106301 | R35: 1 | S35: 1 | T35: 41308 | U35: 1.6836682e+11 | V35: 1.6969485e+11
A36: 29 | B36: CardinalStone Money Market Fund | C36: CardinalStone Asset Mgt. Limited | D36: 3.0890836e+10 | E36: 3.517622e+08 | F36: 0 | G36: 38166399 | H36: =(E36+F36)-G36 -> 3.135958e+08 | I36: 2.8576468e+10 | J36: =(I36/$I$75) -> 0.0048964847 | K36: 3.0575254e+10 | L36: =(K36/$K$75) -> 0.0050864249 | M36: =((K36-I36)/I36) -> 0.069945163 | N36: =(G36/K36) -> 0.0012482774 | O36: =H36/K36 -> 0.010256523 | P36: =K36/V36 -> 1 | Q36: =H36/V36 -> 0.010256523 | R36: 1 | S36: 1 | T36: 1912 | U36: 2.8576468e+10 | V36: 3.0575254e+10
A37: 30 | B37: Chapel Hill Denham Money Market Fund | C37: Chapel Hill Denham Mgt. Limited | D37: 4.2680914e+10 | E37: 5.8865912e+08 | F37: 0 | G37: 68703299 | H37: =(E37+F37)-G37 -> 5.1995582e+08 | I37: 3.9645317e+10 | J37: =(I37/$I$75) -> 0.006793096 | K37: 4.2480905e+10 | L37: =(K37/$K$75) -> 0.0070670201 | M37: =((K37-I37)/I37) -> 0.071523892 | N37: =(G37/K37) -> 0.0016172749 | O37: =H37/K37 -> 0.012239754 | P37: =K37/V37 -> 100.00027 | Q37: =H37/V37 -> 1.2239787 | R37: 100 | S37: 100 | T37: 11440 | U37: 3.9645202e+08 | V37: 4.248079e+08
A38: 31 | B38: Comercio Partners Money Market Fund | C38: Comercio Partners Asset Management Limited | D38: 3.4141704e+09 | E38: 1.1028803e+08 | F38: 0 | G38: 4591660.7 | H38: =(E38+F38)-G38 -> 1.0569637e+08 | I38: 3.2955867e+09 | J38: =(I38/$I$75) -> 0.00056468805 | K38: 3.2442308e+09 | L38: =(K38/$K$75) -> 0.00053970236 | M38: =((K38-I38)/I38) -> -0.015583231 | N38: =(G38/K38) -> 0.0014153311 | O38: =H38/K38 -> 0.032579794 | P38: =K38/V38 -> 0.99877285 | Q38: =H38/V38 -> 0.032539814 | R38: 1 | S38: 1 | T38: 840 | U38: 3.3001212e+09 | V38: 3.2482169e+09
A39: 32 | B39: Coral Money Market Fund | C39: FSDH Asset Management Ltd | D39: 1.0506846e+11 | E39: 1.526586e+09 | F39: 0 | G39: 1.6438478e+08 | H39: =(E39+F39)-G39 -> 1.3622012e+09 | I39: 1.0200774e+11 | J39: =(I39/$I$75) -> 0.017478695 | K39: 1.0066075e+11 | L39: =(K39/$K$75) -> 0.016745677 | M39: =((K39-I39)/I39) -> -0.013204833 | N39: =(G39/K39) -> 0.0016330574 | O39: =H39/K39 -> 0.013532596 | P39: =K39/V39 -> 100 | Q39: =H39/V39 -> 1.3532596 | R39: 100 | S39: 100 | T39: 6318 | U39: 1.0200774e+09 | V39: 1.0066075e+09
... A52: 45 | B52: Greenwich Plus Money Market | C52: Greenwich Asst Management Ltd | D52: 4.3341256e+09 | E52: 5.2246397e+08 | F52: 0 | G52: 22876042 | H52: =(E52+F52)-G52 -> 4.9958793e+08 | I52: 1.3379146e+10 | J52: =(I52/$I$75) -> 0.0022924731 | K52: 1.3374498e+10 | L52: =(K52/$K$75) -> 0.0022249491 | M52: =((K52-I52)/I52) -> -0.00034737495 | N52: =(G52/K52) -> 0.0017104224 | O52: =H52/K52 -> 0.037353769 | P52: =K52/V52 -> 100.6755 | Q52: =H52/V52 -> 3.7606093 | R52: 100 | S52: 100 | T52: 2127 | U52: 134540812 | V52: 132847603
A53: 46 | B53: GTI Money Market Fund | C53: GTI Asset Management & Trust Limited | D53: 1.6317101e+08 | F53: 0 | G53: 214880.58 | H53: 2221712.9 | I53: 1.5015979e+08 | J53: =(I53/$I$75) -> 2.5729392e-05 | K53: 1.6210093e+08 | L53: =(K53/$K$75) -> 2.6966717e-05 | M53: =((K53-I53)/I53) -> 0.079522876 | N53: =(G53/K53) -> 0.0013255974 | O53: =H53/K53 -> 0.013705738 | P53: =K53/V53 -> 1.0805031 | Q53: =H53/V53 -> 0.014809092 | R53: 1 | S53: 1 | T53: 166 | U53: 1.4597084e+08 | V53: 1.5002357e+08
A54: 47 | B54: Guaranty Trust Investment Fund 724 | C54: Guaranty Trust Fund Managers Limited | D54: 4.7699221e+09 | E54: 59798503 | F54: 0 | G54: 5053340.5 | H54: =(E54+F54)-G54 -> 54745162 | I54: 3.146265e+09 | J54: =(I54/$I$75) -> 0.00053910226 | K54: 4.6262375e+09 | L54: =(K54/$K$75) -> 0.00076960963 | M54: =((K54-I54)/I54) -> 0.47039028 | N54: =(G54/K54) -> 0.0010923219 | O54: =H54/K54 -> 0.011833626 | P54: =K54/V54 -> 100 | Q54: =H54/V54 -> 1.1833626 | R54: 100 | S54: 100 | T54: 18215 | U54: 31462650 | V54: 46262375
...

Sheet NAV Comparison
A4: FUNDS | B4: Apr 2026 | C4: May 2026 | D4: Jun 2026
A5: EQUITY BASED FUNDS | B5: 235.55134 | C5: =[1]May!K25/1000000000 -> 262.04604 | D5: =June!K25/1000000000 -> 228.66727
A6: MONEY MARKET FUNDS | B6: 5695.4341 | C6: =[1]May!K75/1000000000 -> 5836.1191 | D6: =June!K75/1000000000 -> 6011.1482
A7: BONDS/FIXED INCOME FUNDS | B7: 234.6244 | C7: =[1]May!K116/1000000000 -> 233.72033 | D7: =June!K116/1000000000 -> 237.74935
A8: DOLLAR FUNDS | B8: 1858.7018 | C8: =[1]May!K160/1000000000 -> 1841.4176 | D8: =June!K160/1000000000 -> 1851.6011
A9: REAL ESTATE INVESTMENT TRUST | B9: 526.89377 | C9: =[1]May!K169/1000000000 -> 527.75099 | D9: =June!K169/1000000000 -> 529.08902
A10: BALANCED FUNDS | B10: 144.17949 | C10: =[1]May!K202/1000000000 -> 157.21305 | D10: =June!K202/1000000000 -> 148.77127
A11: ETHICAL FUNDS | B11: 19.528485 | C11: =[1]May!K208/1000000000 -> 21.330556 | D11: =June!K208/1000000000 -> 18.413579
A12: SHARI'AH COMPLAINT FUNDS | B12: 133.72102 | C12: =[1]May!K236/1000000000 -> 143.95374 | D12: =June!K236/1000000000 -> 135.98274
A13: SPECIALISED FUNDS | B13: 30.829078 | C13: =[1]May!K246/1000000000 -> 31.096845 | D13: =June!K246/1000000000 -> 31.42159

Sheet Market Share
A1: FUNDS | B1: Jun 2026
A2: ETHICAL FUNDS | B2: =June!K208 -> 1.8413579e+10
A3: SPECIALISED FUNDS | B3: =June!K246 -> 3.142159e+10
A4: SHARI'AH COMPLAINT FUNDS | B4: =June!K236 -> 1.3598274e+11
A5: EQUITY BASED FUNDS | B5: =June!K25 -> 2.2866727e+11
A6: BALANCED FUNDS | B6: =June!K202 -> 1.4877127e+11
A7: BONDS/FIXED INCOME FUNDS | B7: =June!K116 -> 2.3774935e+11
A8: REAL ESTATE INVESTMENT TRUST | B8: =June!K169 -> 5.2908902e+11
A9: DOLLAR FUNDS | B9: =June!K160 -> 1.8516011e+12
A10: MONEY MARKET FUNDS | B10: =June!K75 -> 6.0111482e+12

Sheet Unitholders
A5: FUNDS | B5: UNIT HOLDERS
A6: EQUITY BASED FUNDS | B6: =June!T25 -> 102866
A7: MONEY MARKET FUNDS | B7: =June!T75 -> 750973
A8: BONDS/FIXED INCOME FUNDS | B8: =June!T116 -> 64425
A9: DOLLAR FUNDS | B9: =June!T160 -> 30355
A10: REAL ESTATE INVESTMENT TRUST | B10: =June!T169 -> 230697
A11: BALANCED FUNDS | B11: =June!T202 -> 97710
A12: ETHICAL FUNDS | B12: =June!T208 -> 18710
A13: SHARI'AH COMPLAINT FUNDS | B13: =June!T236 -> 40457
A14: SPECIALISED FUNDS | B14: =June!T246 -> 158
