Workbook
Name _Hlk34300669: July!$K$70
Name Component: "Group"
Name FX_RATE: July!$C$250
Name pbCountingPages: FALSE

Sheet July
A1: MONTHLY UPDATE ON REGISTERED MUTUAL FUNDS AS AT 31ST JULY, 2026
A2: S/N | B2: FUND | C2: FUND MANAGER | D2: TOTAL VALUE OF INVESTMENT (N) | E2: TOTAL INCOME (N) | F2: UNREALIZED CAPITAL GAIN/LOSS (N) | G2: TOTAL EXPENSES (N) | H2: NET INCOME/LOSS (N) | I2: NET ASSET VALUE (N) PREVIOUS - JUNE | J2: % ON TOTAL | K2: NET ASSET VALUE (N) | L2: % ON TOTAL | M2: % CHANGE IN NAV | N2: EXPENSE RATIO | O2: RETURN ON EQUITY (ROE) | P2: NET ASSET PER UNIT | Q2: EARNINGS PER UNIT (EPU) | R2: BID PRICE (N) | S2: OFFER PRICE (N) | T2: NUMBER OF UNIT HOLDERS | U2: OPENING NUMBER OF UNITS | V2: CLOSING NUMBER OF UNITS
A4: EQUITY BASED FUNDS
A5: 1 | B5: Afrinvest Equity Fund | C5: Afrinvest Asset Management Ltd. | D5: 1.2672157e+10 | E5: 78930287 | F5: 3.9151791e+09 | G5: 20490480 | H5: =(E5+F5)-G5 -> 3.9736189e+09 | I5: 1.1713063e+10 | J5: =(I5/$I$25) -> 0.051223172 | K5: 1.2686025e+10 | L5: =(K5/$K$25) -> 0.052554963 | M5: =((K5-I5)/I5) -> 0.083066424 | N5: =(G5/K5) -> 0.0016152009 | O5: =H5/K5 -> 0.31322804 | P5: =K5/V5 -> 892.34373 | Q5: =H5/V5 -> 279.50708 | R5: 892.34 | S5: 903.82 | T5: 1712 | U5: 14008423 | V5: 14216523
A6: 2 | B6: Anchoria Equity Fund | C6: Anchoria Asset Management Limited | D6: 2.2813525e+09 | E6: 2504260 | F6: 8.24596e+08 | G6: 1211089.7 | H6: =(E6+F6)-G6 -> 8.2588917e+08 | I6: 2.0390861e+09 | J6: =(I6/$I$25) -> 0.0089172626 | K6: 2.3122593e+09 | L6: =(K6/$K$25) -> 0.0095790998 | M6: =((K6-I6)/I6) -> 0.13396843 | N6: =(G6/K6) -> 0.00052376898 | O6: =H6/K6 -> 0.35717844 | P6: =K6/V6 -> 600.3893 | Q6: =H6/V6 -> 214.44612 | R6: 603.21 | S6: 611.91 | T6: 692 | U6: 3617020.6 | V6: 3851266.6
A7: 3 | B7: ARM Aggressive Growth Fund | C7: ARM Investment Managers Limited | D7: 16732431062 | E7: 128972112 | F7: 548025307 | G7: 36954522 | H7: =(E7+F7)-G7 -> 640042897 | I7: 18200475206 | J7: =(I7/$I$25) -> 0.079593704 | K7: 18511889397 | L7: =(K7/$K$25) -> 0.076690031 | M7: =((K7-I7)/I7) -> 0.017110223 | N7: =(G7/K7) -> 0.0019962588 | O7: =H7/K7 -> 0.034574693 | P7: =K7/V7 -> 72.329366 | Q7: =H7/V7 -> 2.5007656 | R7: 71.9678 | S7: 74.1376 | T7: 12462 | U7: 261601138 | V7: 255938777
A8: 4 | B8: AXA Mansard Equity Income Fund | C8: AXA Mansard Investments Limited | D8: 2.5090604e+09 | E8: 19981406 | F8: 0 | G8: 4690336.8 | H8: =(E8+F8)-G8 -> 15291069 | I8: 3.061318e+09 | J8: =(I8/$I$25) -> 0.013387653 | K8: 3.5943399e+09 | L8: =(K8/$K$25) -> 0.014890432 | M8: =((K8-I8)/I8) -> 0.17411517 | N8: =(G8/K8) -> 0.001304923 | O8: =H8/K8 -> 0.0042542079 | P8: =K8/V8 -> 351.34852 | Q8: =H8/V8 -> 1.4947097 | R8: 349.5918 | S8: 353.1053 | T8: 2599 | U8: 8627303.1 | V8: 10230127
A9: 5 | B9: CardinalStone Equity Fund | C9: CardinalStone Asset Mgt. Limited | D9: 1.2549414e+10 | E9: 2.0120686e+08 | F9: 6.3696135e+08 | G9: 13230346 | H9: =(E9+F9)-G9 -> 8.2493787e+08 | I9: 1.2025212e+10 | J9: =(I9/$I$25) -> 0.052588252 | K9: 1.2763786e+10 | L9: =(K9/$K$25) -> 0.052877108 | M9: =((K9-I9)/I9) -> 0.061418826 | N9: =(G9/K9) -> 0.0010365534 | O9: =H9/K9 -> 0.064631124 | P9: =K9/V9 -> 2.8716301 | Q9: =H9/V9 -> 0.18559668 | R9: 2.8425 | S9: 2.8825 | T9: 2827 | U9: 4.3206432e+09 | V9: 4.4447878e+09
A10: 6 | B10: Cowry Equity Fund | C10: Cowry Treasurers Limited | D10: 7.0215597e+08 | E10: 8833804.6 | F10: 1.8951802e+08 | G10: 1005556 | H10: =(E10+F10)-G10 -> 1.9734627e+08 | I10: 6.7590371e+08 | J10: =(I10/$I$25) -> 0.0029558393 | K10: 7.462649e+08 | L10: =(K10/$K$25) -> 0.0030915849 | M10: =((K10-I10)/I10) -> 0.10409943 | N10: =(G10/K10) -> 0.0013474519 | O10: =H10/K10 -> 0.26444533 | P10: =K10/V10 -> 334.44303 | Q10: =H10/V10 -> 88.441895 | R10: 334.44 | S10: 337.7 | T10: 208 | U10: 1817337 | V10: 2231366.3
A11: 7 | B11: FCMBAM Equity Fund | C11: First City Asset Management Plc | D11: 4.2723911e+09 | E11: 12042928 | F11: 0 | G11: 7319248.8 | H11: =(E11+F11)-G11 -> 4723679.2 | I11: 3.9869154e+09 | J11: =(I11/$I$25) -> 0.017435444 | K11: 4253936501 | L11: =(K11/$K$25) -> 0.017622973 | M11: =((K11-I11)/I11) -> 0.06697436 | N11: =(G11/K11) -> 0.0017205825 | O11: =H11/K11 -> 0.0011104254 | P11: =K11/V11 -> 8.2634114 | Q11: =H11/V11 -> 0.0091759019 | R11: 8.15 | S11: 8.32 | T11: 3891 | U11: 514821528 | V11: 5.1479181e+08
A12: 8 | B12: First Asset Nigeria Smart Beta Equity Fund | C12: First Asset Management Limited | D12: 6.8528625e+09 | E12: 18676671 | F12: 2.8758502e+08 | G12: 11718182 | H12: =(E12+F12)-G12 -> 2.9454351e+08 | I12: 6.7892625e+09 | J12: =(I12/$I$25) -> 0.029690574 | K12: 6.7774413e+09 | L12: =(K12/$K$25) -> 0.028077209 | M12: =((K12-I12)/I12) -> -0.0017411625 | N12: =(G12/K12) -> 0.0017289979 | O12: =H12/K12 -> 0.043459396 | P12: =K12/V12 -> 603.94527 | Q12: =H12/V12 -> 26.247097 | R12: 603.95 | S12: 612.87 | T12: 2974 | U12: 11140994 | V12: 11221946
A13: 9 | B13: Frontier Fund | C13: SCM Capital Limited | D13: 6.379358e+08 | E13: 4875500 | F13: 27738567 | G13: 1950140.8 | H13: =(E13+F13)-G13 -> 30663927 | I13: 5.7142377e+08 | J13: =(I13/$I$25) -> 0.0024989311 | K13: 6.1081576e+08 | L13: =(K13/$K$25) -> 0.0025304537 | M13: =((K13-I13)/I13) -> 0.068936565 | N13: =(G13/K13) -> 0.0031926825 | O13: =H13/K13 -> 0.050201597 | P13: =K13/V13 -> 304.36088 | Q13: =H13/V13 -> 15.279402 | R13: 304.36 | S13: 317.24 | T13: 2475 | U13: 2006880 | V13: 2006880
A14: 10 | B14: Futureview Equity Fund | C14: Futureview Asset Management Limited | D14: 2.1728003e+08 | E14: 1801047.5 | F14: 39813953 | G14: 4184209.9 | H14: =(E14+F14)-G14 -> 37430790 | I14: 1.6390128e+08 | J14: =(I14/$I$25) -> 0.00071676753 | K14: 2.25997e+08 | L14: =(K14/$K$25) -> 0.00093624784 | M14: =((K14-I14)/I14) -> 0.37886049 | N14: =(G14/K14) -> 0.018514449 | O14: =H14/K14 -> 0.16562517 | P14: =K14/V14 -> 572.08396 | Q14: =H14/V14 -> 94.751501 | R14: 562.95 | S14: 579.87 | T14: 74 | U14: 332307.31 | V14: 395041.66
A15: 11 | B15: Guaranty Trust Equity Income Fund | C15: Guaranty Trust Fund Managers Limited | D15: 1.9925925e+10 | E15: 38718079 | F15: 6.3484622e+08 | G15: 35109437 | H15: =(E15+F15)-G15 -> 6.3845487e+08 | I15: 20296188148 | J15: =(I15/$I$25) -> 0.088758605 | K15: 2.0087605e+10 | L15: =(K15/$K$25) -> 0.083217817 | M15: =((K15-I15)/I15) -> -0.010276974 | N15: =(G15/K15) -> 0.001747816 | O15: =H15/K15 -> 0.031783524 | P15: =K15/V15 -> 5.5369854 | Q15: =H15/V15 -> 0.17598491 | R15: 5.51 | S15: 5.59 | T15: 15309 | U15: 3.7611407e+09 | V15: 3.6278956e+09
A16: 12 | B16: Halo Equity Fund | C16: Halo Nigeria Capital Management Limited | D16: 4.2386008e+08 | E16: 6613415.3 | F16: 0 | G16: 2328854.1 | H16: =(E16+F16)-G16 -> 4284561.2 | I16: 4.7947026e+08 | J16: =(I16/$I$25) -> 0.0020968031 | K16: 5.7362735e+08 | L16: =(K16/$K$25) -> 0.0023763916 | M16: =((K16-I16)/I16) -> 0.19637734 | N16: =(G16/K16) -> 0.0040598728 | O16: =H16/K16 -> 0.0074692416 | P16: =K16/V16 -> 46.195064 | Q16: =H16/V16 -> 0.3450421 | R16: 46.195064 | S16: 46.659864 | T16: 172 | U16: 10930719 | V16: 12417503
... A24: 20 | B24: Zrosk Magna Equity Fund | C24: Zrosk Investment Management Limited | D24: 2.4108067e+10 | E24: 43813544 | F24: 1.6488182e+09 | G24: 48048445 | H24: =(E24+F24)-G24 -> 1.6445833e+09 | I24: 22049336149 | J24: =(I24/$I$25) -> 0.096425413 | K24: 23861614182 | L24: =(K24/$K$25) -> 0.098852574 | M24: =((K24-I24)/I24) -> 0.082191954 | N24: =(G24/K24) -> 0.0020136293 | O24: =H24/K24 -> 0.06892171 | P24: =K24/V24 -> 354.32232 | Q24: =H24/V24 -> 24.4205 | R24: 350.83 | S24: 356.74 | T24: 187 | U24: 66748862 | V24: 67344372
A25: Sub Total | I25: =SUM(I5:I24) -> 2.2866727e+11 | J25: =(I25/$I$248) -> 0.024874486 | K25: =SUM(K5:K24) -> 2.4138587e+11 | L25: =(K25/$K$248) -> 0.025545109 | M25: =((K25-I25)/I25) -> 0.05562052 | T25: =SUM(T5:T24) -> 108429
A27: MONEY MARKET FUNDS
A28: 21 | B28: Afrinvest Plutus Fund | C28: Afrinvest Asset Management Ltd. | D28: 6.8539367e+09 | E28: 1.0302769e+08 | F28: 0 | G28: 12625781 | H28: =(E28+F28)-G28 -> 90401908 | I28: 6.5603831e+09 | J28: =(I28/$I$76) -> 0.0010913694 | K28: 6.6500657e+09 | L28: =(K28/$K$76) -> 0.0010617826 | M28: =((K28-I28)/I28) -> 0.013670324 | N28: =(G28/K28) -> 0.0018985949 | O28: =H28/K28 -> 0.013594138 | P28: =K28/V28 -> 100.23901 | Q28: =H28/V28 -> 1.3626629 | R28: 100 | S28: 100 | T28: 936 | U28: 65451091 | V28: 66342094
A29: 22 | B29: AIICO Money Market Fund | C29: AIICO Capital Ltd | D29: 4.6910527e+10 | E29: 8.1400914e+08 | F29: 0 | G29: 74188698 | H29: =(E29+F29)-G29 -> 7.3982044e+08 | I29: 4.2779092e+10 | J29: =(I29/$I$76) -> 0.0071166258 | K29: 4.7126225e+10 | L29: =(K29/$K$76) -> 0.0075244076 | M29: =((K29-I29)/I29) -> 0.10161816 | N29: =(G29/K29) -> 0.0015742551 | O29: =H29/K29 -> 0.015698699 | P29: =K29/V29 -> 101.43354 | Q29: =H29/V29 -> 1.5923746 | R29: 100 | S29: 100 | T29: 5425 | U29: 4.1093229e+08 | V29: 4.64602e+08
A30: 23 | B30: Alpha10 Money Market Fund | C30: Alpha10 Fund Management Limited | D30: 1.384804e+09 | E30: 34749254 | F30: 0 | G30: 4119714.9 | H30: =(E30+F30)-G30 -> 30629539 | I30: 2.1099917e+09 | J30: =(I30/$I$76) -> 0.00035101308 | K30: 2.3790795e+09 | L30: =(K30/$K$76) -> 0.00037985568 | M30: =((K30-I30)/I30) -> 0.12753029 | N30: =(G30/K30) -> 0.0017316424 | O30: =H30/K30 -> 0.012874534 | P30: =K30/V30 -> 0.98431376 | Q30: =H30/V30 -> 0.012672581 | R30: 1 | S30: 1 | T30: 284 | U30: 2113632495 | V30: 2416993042
A31: 24 | B31: Anchoria Money Market Fund | C31: Anchoria Asset Management Limited | D31: 3.9207942e+09 | E31: 57417104 | F31: 0 | G31: 5139943.7 | H31: =(E31+F31)-G31 -> 52277160 | I31: 4.0073418e+09 | J31: =(I31/$I$76) -> 0.00066665164 | K31: 3942857830 | L31: =(K31/$K$76) -> 0.00062953631 | M31: =((K31-I31)/I31) -> -0.016091457 | N31: =(G31/K31) -> 0.0013036087 | O31: =H31/K31 -> 0.013258698 | P31: =K31/V31 -> 124.70199 | Q31: =H31/V31 -> 1.653386 | R31: 100 | S31: 100 | T31: 2215 | U31: 31438325 | V31: 31618242
A32: 25 | B32: Apel Wealth Money Market Fund | C32: Apel Wealth Management Limited | D32: 6.3968301e+08 | E32: 37227464 | F32: 0 | G32: 2804228.3 | H32: =(E32+F32)-G32 -> 34423236 | I32: 1.3943392e+09 | J32: =(I32/$I$76) -> 0.00023195889 | K32: 1.5904129e+09 | L32: =(K32/$K$76) -> 0.00025393324 | M32: =((K32-I32)/I32) -> 0.1406212 | N32: =(G32/K32) -> 0.0017632077 | O32: =H32/K32 -> 0.021644213 | P32: =K32/V32 -> 100 | Q32: =H32/V32 -> 2.1644213 | R32: 1 | S32: 1 | T32: 192 | U32: 13943392 | V32: 15904129
A33: 26 | B33: ARM Money Market Fund | C33: ARM Investment Managers Limited | D33: 174243307037 | E33: 6708892064 | F33: 0 | G33: 6708892064 | H33: =(E33+F33)-G33 -> 0 | I33: 417819034405 | J33: =(I33/$I$76) -> 0.069507359 | K33: 440926525045 | L33: =(K33/$K$76) -> 0.070400524 | M33: =((K33-I33)/I33) -> 0.055305021 | N33: =(G33/K33) -> 0.015215442 | O33: =H33/K33 -> 0 | P33: =K33/V33 -> 1 | Q33: =H33/V33 -> 0 | R33: 1 | S33: 1 | T33: 88242 | U33: 417819034405 | V33: 440926525045
A34: 27 | B34: AVA GAM Money Market Fund | C34: AVA Global Asset Managers Limited | D34: 1.2843473e+09 | E34: 68389618 | F34: 0 | G34: 7512033.4 | H34: =(E34+F34)-G34 -> 60877584 | I34: 2.1299579e+09 | J34: =(I34/$I$76) -> 0.00035433462 | K34: 2.1945126e+09 | L34: =(K34/$K$76) -> 0.0003503868 | M34: =((K34-I34)/I34) -> 0.030307947 | N34: =(G34/K34) -> 0.0034230988 | O34: =H34/K34 -> 0.027740823 | P34: =K34/V34 -> 0.92219445 | Q34: =H34/V34 -> 0.025582433 | R34: 1 | S34: 1 | T34: 445 | U34: 2248445345 | V34: 2379663600
A35: 28 | B35: AXA Mansard Money Market Fund | C35: AXA Mansard Investments Limited | D35: 5.7506378e+10 | E35: 2.6049175e+09 | F35: 0 | G35: 2.4900478e+08 | H35: =(E35+F35)-G35 -> 2.3559127e+09 | I35: 1.7618341e+11 | J35: =(I35/$I$76) -> 0.029309443 | K35: 1.8080667e+11 | L35: =(K35/$K$76) -> 0.028868493 | M35: =((K35-I35)/I35) -> 0.026241213 | N35: =(G35/K35) -> 0.001377188 | O35: =H35/K35 -> 0.01303001 | P35: =K35/V35 -> 1.012783 | Q35: =H35/V35 -> 0.013196573 | R35: 1 | S35: 1 | T35: 42011 | U35: 1.6969485e+11 | V35: 1.7852458e+11
A36: 29 | B36: CardinalStone Money Market Fund | C36: CardinalStone Asset Mgt. Limited | D36: 3.6812772e+10 | E36: 598252299 | F36: 0 | G36: 44461273 | H36: =(E36+F36)-G36 -> 553791026 | I36: 3.0575254e+10 | J36: =(I36/$I$76) -> 0.0050864249 | K36: 3.7081763e+10 | L36: =(K36/$K$76) -> 0.0059206588 | M36: =((K36-I36)/I36) -> 0.21280311 | N36: =(G36/K36) -> 0.0011990065 | O36: =H36/K36 -> 0.014934323 | P36: =K36/V36 -> 1 | Q36: =H36/V36 -> 0.014934323 | R36: 1 | S36: 1 | T36: 2417 | U36: 3.0575254e+10 | V36: 3.7081763e+10
A37: 30 | B37: Chapel Hill Denham Money Market Fund | C37: Chapel Hill Denham Mgt. Limited | D37: 4.4888467e+10 | E37: 6.3444983e+08 | F37: 0 | G37: 73885368 | H37: =(E37+F37)-G37 -> 5.6056446e+08 | I37: 4.2480905e+10 | J37: =(I37/$I$76) -> 0.0070670201 | K37: 4.4270744e+10 | L37: =(K37/$K$76) -> 0.0070684873 | M37: =((K37-I37)/I37) -> 0.042132792 | N37: =(G37/K37) -> 0.0016689435 | O37: =H37/K37 -> 0.012662187 | P37: =K37/V37 -> 100.00026 | Q37: =H37/V37 -> 1.266222 | R37: 100 | S37: 100 | T37: 12118 | U37: 4.248079e+08 | V37: 4.4270628e+08
A38: 31 | B38: Comercio Partners Money Market Fund | C38: Comercio Partners Asset Management Limited | D38: 3.5678549e+09 | E38: 1.3038363e+08 | F38: 0 | G38: 4792632.5 | H38: =(E38+F38)-G38 -> 1.2559099e+08 | I38: 3.2442308e+09 | J38: =(I38/$I$76) -> 0.00053970236 | K38: 3.4700593e+09 | L38: =(K38/$K$76) -> 0.00055404695 | M38: =((K38-I38)/I38) -> 0.069609262 | N38: =(G38/K38) -> 0.0013811385 | O38: =H38/K38 -> 0.036192751 | P38: =K38/V38 -> 0.99969606 | Q38: =H38/V38 -> 0.036181751 | R38: 1 | S38: 1 | T38: 858 | U38: 3.2482169e+09 | V38: 3.4711144e+09
A39: 32 | B39: Coral Money Market Fund | C39: FSDH Asset Management Ltd | D39: 1.080629e+11 | E39: 1.5835043e+09 | F39: 0 | G39: 1.7392158e+08 | H39: =(E39+F39)-G39 -> 1.4095827e+09 | I39: 1.0066075e+11 | J39: =(I39/$I$76) -> 0.016745677 | K39: 1.0613801e+11 | L39: =(K39/$K$76) -> 0.016946523 | M39: =((K39-I39)/I39) -> 0.054413066 | N39: =(G39/K39) -> 0.0016386362 | O39: =H39/K39 -> 0.01328066 | P39: =K39/V39 -> 100 | Q39: =H39/V39 -> 1.328066 | R39: 100 | S39: 100 | T39: 6547 | U39: 1.0066075e+09 | V39: 1.0613801e+09
... A63: 56 | B63: Parthian Money Market Fund | C63: Parthian Capital Ltd. | D63: 1.5419129e+09 | E63: 37237759 | F63: 0 | G63: 3353883.7 | H63: =(E63+F63)-G63 -> 33883875 | I63: 2.4273648e+09 | J63: =(I63/$I$76) -> 0.00040381051 | K63: 2.3671036e+09 | L63: =(K63/$K$76) -> 0.00037794354 | M63: =((K63-I63)/I63) -> -0.024825791 | N63: =(G63/K63) -> 0.0014168724 | O63: =H63/K63 -> 0.014314488 | P63: =K63/V63 -> 1 | Q63: =H63/V63 -> 0.014314488 | R63: 1 | S63: 1 | T63: 3639 | U63: 2.3602758e+09 | V63: 2.3671036e+09
A64: 57 | B64: Radix Money Market Fund | C64: Radix Capital Partners Limited | D64: =190596344+186745019.47 -> 3.7734136e+08 | E64: 5125562.8 | F64: 0 | G64: 523270.38 | H64: =(E64+F64)-G64 -> 4602292.4 | I64: 0 | J64: =(I64/$I$76) -> 0 | K64: 3.7178291e+08 | L64: =(K64/$K$76) -> 5.9360709e-05 | M64: =((K64-I64)/I64) -> #DIV/0! | N64: =(G64/K64) -> 0.0014074622 | O64: =H64/K64 -> 0.012378978 | P64: =K64/V64 -> 1.0005857 | Q64: =H64/V64 -> 0.012386228 | R64: 1 | S64: 1 | T64: 53 | U64: 3.7178291e+08 | V64: 3.7156528e+08
A65: 58 | B65: RMBN Money Market Fund | C65: RMB Nigeria Asset Management Ltd. | D65: 2.5567569e+10 | E65: 3.3573983e+08 | F65: 0 | G65: =E65-307970000 -> 27769830 | H65: =(E65+F65)-G65 -> 307970000 | I65: 2.0714033e+10 | J65: =(I65/$I$76) -> 0.0034459362 | K65: 2.5590361e+10 | L65: =(K65/$K$76) -> 0.0040858844 | M65: =((K65-I65)/I65) -> 0.23541183 | N65: =(G65/K65) -> 0.0010851676 | O65: =H65/K65 -> 0.012034609 | P65: =K65/V65 -> 99.998592 | Q65: =H65/V65 -> 1.203444 | R65: 100 | S65: 100 | T65: 204 | U65: 2.0797494e+08 | V65: 2.5590721e+08
A66: 59 | B66: RT Briscoe Savings & Investment Fund | C66: DLM Asset Management Limited | D66: 5.2119984e+08 | E66: 8425488.9 | F66: 0 | G66: 562418.75 | H66: =(E66+F66)-G66 -> 7863070.2 | I66: 429235000 | J66: =(I66/$I$76) -> 7.1406492e-05 | K66: 498378500 | L66: =(K66/$K$76) -> 7.9573592e-05 | M66: =((K66-I66)/I66) -> 0.16108542 | N66: =(G66/K66) -> 0.0011284972 | O66: =H66/K66 -> 0.015777306 | P66: =K66/V66 -> 1000 | Q66: =H66/V66 -> 15.777306 | R66: 1000 | S66: 1000 | T66: 63 | U66: 429235 | V66: 498378.5
A67: 60 | B67: SCM Capital Money Market Fund | C67: SCM Capital Limited | D67: 3.5097133e+09 | E67: 44864811 | F67: 0 | G67: 43030283 | H67: =(E67+F67)-G67 -> 1834527.7 | I67: 2.7304648e+09 | J67: =(I67/$I$76) -> 0.00045423349 | K67: 3.0035919e+09 | L67: =(K67/$K$76) -> 0.00047956843 | M67: =((K67-I67)/I67) -> 0.1000295 | N67: =(G67/K67) -> 0.014326275 | O67: =H67/K67 -> 0.00061077796 | P67: =K67/V67 -> 1.0998704 | Q67: =H67/V67 -> 0.00067177659 | R67: 1 | S67: 1 | T67: 3112 | U67: 2.7308598e+09 | V67: 2.7308598e+09
A68: 61 | B68: Stanbic IBTC Money Market Fund | C68: Stanbic IBTC Asset Mgt. Limited | D68: 2.9754832e+12 | E68: 4.263743e+10 | F68: 0 | G68: 4.8073949e+09 | H68: =(E68+F68)-G68 -> 3.7830035e+10 | I68: 2.8693585e+12 | J68: =(I68/$I$76) -> 0.47733951 | K68: 2.9704124e+12 | L68: =(K68/$K$76) -> 0.47427082 | M68: =((K68-I68)/I68) -> 0.035218282 | N68: =(G68/K68) -> 0.0016184268 | O68: =H68/K68 -> 0.012735617 | P68: =K68/V68 -> 1 | Q68: =H68/V68 -> 0.012735617 | R68: 100 | S68: 100 | T68: 360211 | U68: 2.8693585e+12 | V68: 2.9704124e+12
A69: 62 | B69: STL Money Market Fund | C69: STL Asset Mgt. Limited | D69: 6.4818185e+09 | E69: 6.8254498e+08 | F69: 0 | G69: 95008237 | H69: =(E69+F69)-G69 -> 5.8753674e+08 | I69: 1.6387797e+10 | J69: =(I69/$I$76) -> 0.0027262341 | K69: 1.6387797e+10 | L69: =(K69/$K$76) -> 0.0026165573 | M69: =((K69-I69)/I69) -> 0 | N69: =(G69/K69) -> 0.005797499 | O69: =H69/K69 -> 0.035852088 | P69: =K69/V69 -> 100 | Q69: =H69/V69 -> 3.5852088 | R69: 100 | S69: 100 | T69: 1588 | U69: 1.5319835e+08 | V69: 1.6387797e+08
A70: 63 | B70: Trustbanc Money Market Fund | C70: Trustbanc Asset Management Limited | D70: 1.8147214e+10 | E70: 3.0833388e+08 | F70: 0 | G70: 27232336 | H70: =(E70+F70)-G70 -> 2.8110154e+08 | I70: 1.8007306e+10 | J70: =(I70/$I$76) -> 0.0029956517 | K70: 1.813142e+10 | L70: =(K70/$K$76) -> 0.0028949527 | M70: =((K70-I70)/I70) -> 0.0068924192 | N70: =(G70/K70) -> 0.0015019417 | O70: =H70/K70 -> 0.015503559 | P70: =K70/V70 -> 1.0154723 | Q70: =H70/V70 -> 0.015743435 | R70: 1 | S70: 1 | T70: 1044 | U70: 1.7270994e+10 | V70: 1.7855159e+10
A71: 64 | B71: United Capital Money Market Fund | C71: United Capital Asset Mgt. Ltd | D71: 7.8108107e+10 | E71: 3.7912302e+09 | F71: 0 | G71: 4.0037644e+08 | H71: =(E71+F71)-G71 -> 3.3908537e+09 | I71: 248920900518 | J71: =(I71/$I$76) -> 0.041409876 | K71: 2.6154369e+11 | L71: =(K71/$K$76) -> 0.041759367 | M71: =((K71-I71)/I71) -> 0.050710035 | N71: =(G71/K71) -> 0.0015308205 | O71: =H71/K71 -> 0.01296477 | P71: =K71/V71 -> 1.0080454 | Q71: =H71/V71 -> 0.013069077 | R71: 1 | S71: 1 | T71: 23706 | U71: 2.4177661e+11 | V71: 2.5945625e+11
A72: 65 | B72: ValuAlliance Money Market Fund | C72: ValuAlliance Asset Management Limited | D72: 1.8815846e+09 | E72: 51993961 | F72: 0 | G72: 6440217.5 | H72: =(E72+F72)-G72 -> 45553744 | I72: 3.1686576e+09 | J72: =(I72/$I$76) -> 0.00052713017 | K72: 3.7428566e+09 | L72: =(K72/$K$76) -> 0.00059760311 | M72: =((K72-I72)/I72) -> 0.18121209 | N72: =(G72/K72) -> 0.001720669 | O72: =H72/K72 -> 0.012170849 | P72: =K72/V72 -> 1.0106922 | Q72: =H72/V72 -> 0.012300983 | R72: 1 | S72: 1 | T72: 173 | U72: 3.0696287e+09 | V72: 3.7032606e+09
...

Sheet NAV Comparison
A4: FUNDS | B4: Jun 2026 | C4: Jul 2026
A5: EQUITY BASED FUNDS | B5: =[1]June!I25/1000000000 -> 262.04604 | C5: =July!K25/1000000000 -> 241.38587
A6: MONEY MARKET FUNDS | B6: =[1]June!I75/1000000000 -> 5836.1191 | C6: =July!K76/1000000000 -> 6263.1143
A7: BONDS/FIXED INCOME FUNDS | B7: =[1]June!I116/1000000000 -> 233.72033 | C7: =July!K117/1000000000 -> 232.74981
A8: DOLLAR FUNDS | B8: =[1]June!I160/1000000000 -> 1841.4176 | C8: =July!K161/1000000000 -> 1819.397
A9: REAL ESTATE INVESTMENT TRUST | B9: =[1]June!I169/1000000000 -> 527.75099 | C9: =July!K170/1000000000 -> 519.10572
A10: BALANCED FUNDS | B10: =[1]June!I202/1000000000 -> 157.21305 | C10: =July!K203/1000000000 -> 155.82342
A11: ETHICAL FUNDS | B11: =[1]June!I208/1000000000 -> 21.330556 | C11: =July!K209/1000000000 -> 19.720978
A12: SHARI'AH COMPLAINT FUNDS | B12: =[1]June!I236/1000000000 -> 143.95374 | C12: =July!K237/1000000000 -> 145.25147
A13: SPECIALISED FUNDS | B13: =[1]June!I246/1000000000 -> 31.096845 | C13: =July!K247/1000000000 -> 52.848096

Sheet Market Share
A1: FUNDS | B1: July 2026
A2: ETHICAL FUNDS | B2: =July!K209 -> 1.9720978e+10
A3: SPECIALISED FUNDS | B3: =July!K247 -> 5.2848096e+10
A4: SHARI'AH COMPLAINT FUNDS | B4: =July!K237 -> 1.4525147e+11
A5: EQUITY BASED FUNDS | B5: =July!K25 -> 2.4138587e+11
A6: BALANCED FUNDS | B6: =July!K203 -> 1.5582342e+11
A7: BONDS/FIXED INCOME FUNDS | B7: =July!K117 -> 2.3274981e+11
A8: REAL ESTATE INVESTMENT TRUST | B8: =July!K170 -> 5.1910572e+11
A9: DOLLAR FUNDS | B9: =July!K161 -> 1.819397e+12
A10: MONEY MARKET FUNDS | B10: =July!K76 -> 6.2631143e+12

Sheet Unitholders
A5: FUNDS | B5: UNIT HOLDERS
A6: EQUITY BASED FUNDS | B6: =July!T25 -> 108429
A7: MONEY MARKET FUNDS | B7: =July!T76 -> 816437
A8: BONDS/FIXED INCOME FUNDS | B8: =July!T117 -> 67113
A9: DOLLAR FUNDS | B9: =July!T161 -> 30493
A10: REAL ESTATE INVESTMENT TRUST | B10: =July!T170 -> 231862
A11: BALANCED FUNDS | B11: =July!T203 -> 102060
A12: ETHICAL FUNDS | B12: =July!T209 -> 19255
A13: SHARI'AH COMPLAINT FUNDS | B13: =July!T237 -> 59593
A14: SPECIALISED FUNDS | B14: =July!T247 -> 228
