Workbook
Name _Hlk34300669: August!$K$70
Name Component: "Group"
Name FX_RATE: August!$C$251
Name pbCountingPages: FALSE

Sheet August
A1: MONTHLY UPDATE ON REGISTERED MUTUAL FUNDS AS AT 31ST AUGUST, 2026
A2: S/N | B2: FUND | C2: FUND MANAGER | D2: TOTAL VALUE OF INVESTMENT (N) | E2: TOTAL INCOME (N) | F2: UNREALIZED CAPITAL GAIN/LOSS (N) | G2: TOTAL EXPENSES (N) | H2: NET INCOME/LOSS (N) | I2: NET ASSET VALUE (N) PREVIOUS - JULY | J2: % ON TOTAL | K2: NET ASSET VALUE (N) | L2: % ON TOTAL | M2: % CHANGE IN NAV | N2: EXPENSE RATIO | O2: RETURN ON EQUITY (ROE) | P2: NET ASSET PER UNIT | Q2: EARNINGS PER UNIT (EPU) | R2: BID PRICE (N) | S2: OFFER PRICE (N) | T2: NUMBER OF UNIT HOLDERS | U2: OPENING NUMBER OF UNITS | V2: CLOSING NUMBER OF UNITS
A4: EQUITY BASED FUNDS
A5: 1 | B5: Afrinvest Equity Fund | C5: Afrinvest Asset Management Ltd. | D5: 1.1815951e+10 | E5: 80375996 | F5: 3.6242245e+09 | G5: 20612671 | H5: =(E5+F5)-G5 -> 3.6839878e+09 | I5: 1.2686025e+10 | J5: =(I5/$I$25) -> 0.052554963 | K5: 1.1849816e+10 | L5: =(K5/$K$25) -> 0.050700303 | M5: =((K5-I5)/I5) -> -0.065915763 | N5: =(G5/K5) -> 0.0017394929 | O5: =H5/K5 -> 0.31088987 | P5: =K5/V5 -> 883.71311 | Q5: =H5/V5 -> 274.73745 | R5: 883.71 | S5: 883.71 | T5: 1708 | U5: 14216523 | V5: 13409121
A6: 2 | B6: Anchoria Equity Fund | C6: Anchoria Asset Management Limited | D6: 2.2284069e+09 | E6: 2491563 | F6: 8.24596e+08 | G6: 2932581.4 | H6: =(E6+F6)-G6 -> 8.2415498e+08 | I6: 2.3122593e+09 | J6: =(I6/$I$25) -> 0.0095790998 | K6: 2.2320297e+09 | L6: =(K6/$K$25) -> 0.009549902 | M6: =((K6-I6)/I6) -> -0.034697483 | N6: =(G6/K6) -> 0.0013138631 | O6: =H6/K6 -> 0.36924015 | P6: =K6/V6 -> 587.61821 | Q6: =H6/V6 -> 216.97223 | R6: 582.7 | S6: 591.2 | T6: 692 | U6: 3851266.6 | V6: 3798435.2
A7: 3 | B7: ARM Aggressive Growth Fund | C7: ARM Investment Managers Limited | D7: 16033322349 | E7: 231573524 | F7: 371661266 | G7: 47767161 | H7: =(E7+F7)-G7 -> 555467629 | I7: 18511889397 | J7: =(I7/$I$25) -> 0.076690031 | K7: 18153216351 | L7: =(K7/$K$25) -> 0.077669861 | M7: =((K7-I7)/I7) -> -0.01937528 | N7: =(G7/K7) -> 0.0026313332 | O7: =H7/K7 -> 0.030598855 | P7: =K7/V7 -> 71.689696 | Q7: =H7/V7 -> 2.1936226 | R7: 71.3313 | S7: 73.4819 | T7: 13004 | U7: 255938777 | V7: 253219323
A8: 4 | B8: AXA Mansard Equity Income Fund | C8: AXA Mansard Investments Limited | D8: 2.723212e+09 | E8: 30915108 | G8: 5187336.8 | H8: =(E8+F8)-G8 -> 25727771 | I8: 3.5943399e+09 | J8: =(I8/$I$25) -> 0.014890432 | K8: 3.6454112e+09 | L8: =(K8/$K$25) -> 0.015597158 | M8: =((K8-I8)/I8) -> 0.014208809 | N8: =(G8/K8) -> 0.0014229771 | O8: =H8/K8 -> 0.0070575771 | P8: =K8/V8 -> 354.89322 | Q8: =H8/V8 -> 2.5046863 | R8: 353.1188 | S8: 356.6677 | T8: 2920 | U8: 10230127 | V8: 10271854
A9: 5 | B9: CardinalStone Equity Fund | C9: CardinalStone Asset Mgt. Limited | D9: 1.2592226e+10 | E9: 1.6044429e+08 | F9: -2.0105162e+08 | G9: 18325219 | H9: =(E9+F9)-G9 -> -58932553 | I9: 1.2763786e+10 | J9: =(I9/$I$25) -> 0.052877108 | K9: 1.269285e+10 | L9: =(K9/$K$25) -> 0.054307285 | M9: =((K9-I9)/I9) -> -0.005557626 | N9: =(G9/K9) -> 0.0014437434 | O9: =H9/K9 -> -0.0046429724 | P9: =K9/V9 -> 2.8607586 | Q9: =H9/V9 -> -0.013282423 | R9: 2.8376 | S9: 2.8772 | T9: 3252 | U9: 4.4447878e+09 | V9: 4.4368825e+09
A10: 6 | B10: Cowry Equity Fund | C10: Cowry Treasurers Limited | D10: 7.523129e+08 | E10: 3374207.8 | F10: 2.0307056e+08 | G10: 1164315.2 | H10: =(E10+F10)-G10 -> 2.0528046e+08 | I10: 7.462649e+08 | J10: =(I10/$I$25) -> 0.0030915849 | K10: 7.4587336e+08 | L10: =(K10/$K$25) -> 0.0031912736 | M10: =((K10-I10)/I10) -> -0.00052466684 | N10: =(G10/K10) -> 0.0015610093 | O10: =H10/K10 -> 0.2752216 | P10: =K10/V10 -> 335.56552 | Q10: =H10/V10 -> 92.354877 | R10: 335.57 | S10: 339.66 | T10: 212 | U10: 2231366.3 | V10: 2222735.4
A11: 7 | B11: FCMBAM Equity Fund | C11: First City Asset Management Plc | D11: 4.2454238e+09 | E11: 13603492 | G11: 7379744.5 | H11: =(E11+F11)-G11 -> 6223747.6 | I11: 4253936501 | J11: =(I11/$I$25) -> 0.017622973 | K11: 4.2463288e+09 | L11: =(K11/$K$25) -> 0.018168228 | M11: =((K11-I11)/I11) -> -0.0017883963 | N11: =(G11/K11) -> 0.0017379117 | O11: =H11/K11 -> 0.0014656773 | P11: =K11/V11 -> 8.2941837 | Q11: =H11/V11 -> 0.012156597 | R11: 8.19 | S11: 8.35 | T11: 3880 | U11: 514791810 | V11: 5.1196464e+08
A12: 8 | B12: First Asset Nigeria Smart Beta Equity Fund | C12: FBN Capital Asset Mgt | D12: 6.9362557e+09 | E12: 20152274 | F12: -1.2874608e+08 | G12: 11608181 | H12: =(E12+F12)-G12 -> -1.2020199e+08 | I12: 6.7774413e+09 | J12: =(I12/$I$25) -> 0.028077209 | K12: 6.8503786e+09 | L12: =(K12/$K$25) -> 0.029309845 | M12: =((K12-I12)/I12) -> 0.010761771 | N12: =(G12/K12) -> 0.0016945314 | O12: =H12/K12 -> -0.017546766 | P12: =K12/V12 -> 595.4792 | Q12: =H12/V12 -> -10.448734 | R12: 595.48 | S12: 603.99 | T12: 3036 | U12: 11221946 | V12: 11503976
A13: 9 | B13: Frontier Fund | C13: SCM Capital Limited | D13: 6.6583827e+08 | E13: 2622947 | F13: 6156100.3 | G13: 1934957.3 | H13: =(E13+F13-G13) -> 6844090 | I13: 6.1081576e+08 | J13: =(I13/$I$25) -> 0.0025304537 | K13: 6.3663545e+08 | L13: =(K13/$K$25) -> 0.0027238912 | M13: =((K13-I13)/I13) -> 0.042270829 | N13: =(G13/K13) -> 0.003039349 | O13: =H13/K13 -> 0.010750407 | P13: =K13/V13 -> 317.22647 | Q13: =H13/V13 -> 3.4103135 | R13: 317.23 | S13: 329.8 | T13: 2475 | U13: 2006880 | V13: 2006880
A14: 10 | B14: Futureview Equity Fund | C14: Futureview Asset Management Limited | D14: 2.0637074e+08 | E14: 2448319.8 | F14: 39770471 | G14: 4413751.8 | H14: =(E14+F14)-G14 -> 37805040 | I14: 2.25997e+08 | J14: =(I14/$I$25) -> 0.00093624784 | K14: 2.0826353e+08 | L14: =(K14/$K$25) -> 0.00089107072 | M14: =((K14-I14)/I14) -> -0.078467693 | N14: =(G14/K14) -> 0.021193109 | O14: =H14/K14 -> 0.18152501 | P14: =K14/V14 -> 519.78574 | Q14: =H14/V14 -> 94.35411 | R14: 510.78 | S14: 527.46 | T14: 74 | U14: 395041.66 | V14: 400671.89
A15: 11 | B15: Guaranty Trust Equity Income Fund | C15: Guaranty Trust Fund Managers Limited | D15: 1.9683238e+10 | E15: 60518536 | F15: -1.5078368e+08 | G15: 35493017 | H15: =(E15+F15)-G15 -> -1.2575817e+08 | I15: 2.0087605e+10 | J15: =(I15/$I$25) -> 0.083217817 | K15: 1.9446443e+10 | L15: =(K15/$K$25) -> 0.083203025 | M15: =((K15-I15)/I15) -> -0.031918285 | N15: =(G15/K15) -> 0.0018251676 | O15: =H15/K15 -> -0.0064668981 | P15: =K15/V15 -> 5.3877117 | Q15: =H15/V15 -> -0.034841783 | R15: 5.48 | S15: 5.57 | T15: 18603 | U15: 3.6278956e+09 | V15: 3.6094067e+09
A16: 12 | B16: Halo Equity Fund | C16: Halo Nigeria Capital Management Limited | D16: 3.7748907e+08 | E16: 5789412.1 | F16: 0 | G16: 853584.8 | H16: =(E16+F16)-G16 -> 4935827.3 | I16: 5.7362735e+08 | J16: =(I16/$I$25) -> 0.0023763916 | K16: 4.4345987e+08 | L16: =(K16/$K$25) -> 0.0018973754 | M16: =((K16-I16)/I16) -> -0.22691994 | N16: =(G16/K16) -> 0.0019248299 | O16: =H16/K16 -> 0.011130268 | P16: =K16/V16 -> 45.707075 | Q16: =H16/V16 -> 0.50873201 | R16: 45.707075 | S16: 46.021802 | T16: 195 | U16: 12417503 | V16: 9702215
A17: 13 | B17: Meristem Equity Market Fund | C17: Meristem Wealth Management Limited | D17: 9.7524534e+09 | E17: 62612738 | F17: -1.2837331e+08 | G17: 13741706 | H17: =(E17+F17)-G17 -> -79502281 | I17: 1.0402618e+10 | J17: =(I17/$I$25) -> 0.043095389 | K17: 9.8160448e+09 | L17: =(K17/$K$25) -> 0.041998664 | M17: =((K17-I17)/I17) -> -0.056387054 | N17: =(G17/K17) -> 0.0013999229 | O17: =H17/K17 -> -0.0080992175 | P17: =K17/V17 -> 46.315823 | Q17: =H17/V17 -> -0.37512192 | R17: 46.14 | S17: 46.3 | T17: 2373 | U17: 2.142968e+08 | V17: 2.1193718e+08
A18: 14 | B18: Pacam Equity Fund | C18: PAC Asset Management Ltd. | D18: 4.0874384e+08 | E18: 3662447.1 | F18: 1.5348233e+08 | G18: 585271.34 | H18: =(E18+F18)-G18 -> 1.565595e+08 | I18: 4.0214421e+08 | J18: =(I18/$I$25) -> 0.0016659808 | K18: 4.2288264e+08 | L18: =(K18/$K$25) -> 0.0018093342 | M18: =((K18-I18)/I18) -> 0.051569627 | N18: =(G18/K18) -> 0.0013840042 | O18: =H18/K18 -> 0.37021974 | P18: =K18/V18 -> 3.1012118 | Q18: =H18/V18 -> 1.1481298 | R18: 2.91 | S18: 2.95 | T18: 51 | U18: 132338031 | V18: 136360452
A19: 15 | B19: Paramount Equity Fund | C19: Chapel Hill Denham Mgt. Limited | D19: 2.2841171e+10 | E19: 4.2443274e+08 | F19: -10903124 | G19: 38035520 | H19: =(E19+F19)-G19 -> 3.7549409e+08 | I19: 2.2829064e+10 | J19: =(I19/$I$25) -> 0.094574983 | K19: 2.2762974e+10 | L19: =(K19/$K$25) -> 0.097393044 | M19: =((K19-I19)/I19) -> -0.0028950105 | N19: =(G19/K19) -> 0.0016709381 | O19: =H19/K19 -> 0.016495828 | P19: =K19/V19 -> 72.153618 | Q19: =H19/V19 -> 1.1902337 | R19: 72.1536 | S19: 72.4015 | T19: 18305 | U19: 321921486 | V19: 315479310
A20: 16 | B20: Stanbic IBTC Aggressive Fund (Sub Fund) | C20: Stanbic IBTC Asset Mgt. Limited | D20: 4.196517e+09 | E20: 73097073 | F20: -1.9694833e+08 | G20: 7991363.5 | H20: =(E20+F20)-G20 -> -1.3184262e+08 | I20: 4.5342563e+09 | J20: =(I20/$I$25) -> 0.018784266 | K20: 4.2505475e+09 | L20: =(K20/$K$25) -> 0.018186277 | M20: =((K20-I20)/I20) -> -0.062570086 | N20: =(G20/K20) -> 0.0018800786 | O20: =H20/K20 -> -0.031017797 | P20: =K20/V20 -> 17413.094 | Q20: =H20/V20 -> -540.1158 | R20: 17260 | S20: 17518.02 | T20: 90 | U20: 258020.14 | V20: 244100.65
A21: 17 | B21: Stanbic IBTC Nigerian Equity Fund | C21: Stanbic IBTC Asset Mgt. Limited | D21: 6.6604044e+10 | E21: 6.2747228e+08 | F21: -2.0324812e+09 | G21: 2.262862e+08 | H21: =(E21+F21)-G21 -> -1.6312951e+09 | I21: 6.9457052e+10 | J21: =(I21/$I$25) -> 0.28774283 | K21: 6.6267321e+10 | L21: =(K21/$K$25) -> 0.28352957 | M21: =((K21-I21)/I21) -> -0.045923794 | N21: =(G21/K21) -> 0.003414748 | O21: =H21/K21 -> -0.024616886 | P21: =K21/V21 -> 61284.706 | Q21: =H21/V21 -> -1508.6386 | R21: 60801.62 | S21: 61615.8 | T21: 35322 | U21: 1121465.3 | V21: 1081302.8
A22: 18 | B22: United Capital Equity Fund | C22: United Capital Asset Mgt. Ltd | D22: 15122804012 | E22: 56404238 | F22: -249624069 | G22: 26351788 | H22: =(E22+F22)-G22 -> -219571619 | I22: 1.65738e+10 | J22: =(I22/$I$25) -> 0.06866102 | K22: 15749755199 | L22: =(K22/$K$25) -> 0.067386477 | M22: =((K22-I22)/I22) -> -0.049719707 | N22: =(G22/K22) -> 0.0016731554 | O22: =H22/K22 -> -0.013941272 | P22: =K22/V22 -> 2.433101 | Q22: =H22/V22 -> -0.033920523 | R22: 2.43 | S22: 2.43 | T22: 5110 | U22: 6.796236e+09 | V22: 6.4731201e+09
A23: 19 | B23: Zedcrest Equity Fund | C23: Zedcrest Investment Managers Limited | D23: 9.9300428e+09 | E23: 1.0610376e+08 | G23: 25248903 | H23: =(E23+F23)-G23 -> 80854861 | I23: 1.018133e+10 | J23: =(I23/$I$25) -> 0.042178649 | K23: 9.9130814e+09 | L23: =(K23/$K$25) -> 0.042413842 | M23: =((K23-I23)/I23) -> -0.026347065 | N23: =(G23/K23) -> 0.0025470287 | O23: =H23/K23 -> 0.0081563802 | P23: =K23/V23 -> 1.8866547 | Q23: =H23/V23 -> 0.015388273 | R23: 1.8867 | S23: 1.9127 | T23: 1628 | U23: 5313361280 | V23: 5254316886
A24: 20 | B24: Zrosk Magna Equity Fund | C24: Zrosk Investment Management Limited | D24: 2.3436708e+10 | E24: 143953172 | F24: -1.845033e+08 | G24: 48530752 | H24: =(E24+F24)-G24 -> -89080878 | I24: 23861614182 | J24: =(I24/$I$25) -> 0.098852574 | K24: 23389475181 | L24: =(K24/$K$25) -> 0.10007358 | M24: =((K24-I24)/I24) -> -0.019786549 | N24: =(G24/K24) -> 0.002074897 | O24: =H24/K24 -> -0.0038085882 | P24: =K24/V24 -> 353.39535 | Q24: =H24/V24 -> -1.3459374 | R24: 349.94 | S24: 355.79 | T24: 192 | U24: 67344372 | V24: 66185011
A25: Sub Total | I25: =SUM(I5:I24) -> 2.4138587e+11 | J25: =(I25/$I$249) -> 0.025545109 | K25: =SUM(K5:K24) -> 2.3372279e+11 | L25: =(K25/$K$249) -> 0.024418287 | M25: =((K25-I25)/I25) -> -0.031746178 | T25: =SUM(T5:T24) -> 113122
A27: MONEY MARKET FUNDS
A28: 21 | B28: Afrinvest Plutus Fund | C28: Afrinvest Asset Management Ltd. | D28: 7.0327207e+09 | E28: 1.0322229e+08 | F28: 0 | G28: 12603778 | H28: =(E28+F28)-G28 -> 90618513 | I28: 6.6500657e+09 | J28: =(I28/$I$76) -> 0.0010617826 | K28: 6.8518548e+09 | L28: =(K28/$K$76) -> 0.001062544 | M28: =((K28-I28)/I28) -> 0.030343921 | N28: =(G28/K28) -> 0.0018394695 | O28: =H28/K28 -> 0.013225399 | P28: =K28/V28 -> 100.26823 | Q28: =H28/V28 -> 1.3260873 | R28: 100 | S28: 100 | T28: 935 | U28: 66342094 | V28: 68335253
A29: 22 | B29: AIICO Money Market Fund | C29: AIICO Capital Ltd | D29: 4.6387688e+10 | E29: 8.3819293e+08 | F29: 0 | G29: 77098158 | H29: =(E29+F29)-G29 -> 7.6109477e+08 | I29: 4.7126225e+10 | J29: =(I29/$I$76) -> 0.0075244076 | K29: 4.7599368e+10 | L29: =(K29/$K$76) -> 0.0073814208 | M29: =((K29-I29)/I29) -> 0.010039923 | N29: =(G29/K29) -> 0.0016197307 | O29: =H29/K29 -> 0.015989598 | P29: =K29/V29 -> 102.87407 | Q29: =H29/V29 -> 1.6449151 | R29: 100 | S29: 100 | T29: 5611 | U29: 4.64602e+08 | V29: 4.6269548e+08
A30: 23 | B30: Alpha10 Money Market Fund | C30: Alpha10 Fund Management Limited | D30: 1.5348978e+09 | E30: 36656470 | F30: 0 | G30: 4092848.8 | H30: =(E30+F30)-G30 -> 32563621 | I30: 2.3790795e+09 | J30: =(I30/$I$76) -> 0.00037985568 | K30: 2.126484e+09 | L30: =(K30/$K$76) -> 0.00032976221 | M30: =((K30-I30)/I30) -> -0.10617364 | N30: =(G30/K30) -> 0.0019247024 | O30: =H30/K30 -> 0.015313363 | P30: =K30/V30 -> 0.99620654 | Q30: =H30/V30 -> 0.015255273 | R30: 1 | S30: 1 | T30: 306 | U30: 2416993042 | V30: 2134581426
A31: 24 | B31: Anchoria Money Market Fund | C31: Anchoria Asset Management Limited | D31: 4.3561916e+09 | E31: 62554628 | F31: 0 | G31: 5435750.1 | H31: =(E31+F31)-G31 -> 57118878 | I31: 3942857830 | J31: =(I31/$I$76) -> 0.00062953631 | K31: 4.4416672e+09 | L31: =(K31/$K$76) -> 0.00068878676 | M31: =((K31-I31)/I31) -> 0.1265096 | N31: =(G31/K31) -> 0.0012238085 | O31: =H31/K31 -> 0.012859783 | P31: =K31/V31 -> 122.80471 | Q31: =H31/V31 -> 1.5792419 | R31: 100 | S31: 100 | T31: 2403 | U31: 31618242 | V31: 36168541
A32: 25 | B32: Apel Wealth Money Market Fund | C32: Apel Wealth Management Limited | D32: 8.3631339e+08 | E32: 54776496 | F32: 0 | G32: 5190188.4 | H32: =(E32+F32)-G32 -> 49586307 | I32: 1.5904129e+09 | J32: =(I32/$I$76) -> 0.00025393324 | K32: 1.9256429e+09 | L32: =(K32/$K$76) -> 0.00029861699 | M32: =((K32-I32)/I32) -> 0.21078173 | N32: =(G32/K32) -> 0.0026953017 | O32: =H32/K32 -> 0.025750521 | P32: =K32/V32 -> 100 | Q32: =H32/V32 -> 2.5750521 | R32: 100 | S32: 100 | T32: 218 | U32: 15904129 | V32: 19256429
A33: 26 | B33: ARM Money Market Fund | C33: ARM Investment Managers Limited | D33: 219022405684 | E33: 6926549223 | F33: 0 | G33: 6926549223 | H33: =(E33+F33)-G33 -> 0 | I33: 440926525045 | J33: =(I33/$I$76) -> 0.070400524 | K33: 444879171839 | L33: =(K33/$K$76) -> 0.068989158 | M33: =((K33-I33)/I33) -> 0.0089644115 | N33: =(G33/K33) -> 0.015569507 | O33: =H33/K33 -> 0 | P33: =K33/V33 -> 1 | Q33: =H33/V33 -> 0 | R33: 1 | S33: 1 | T33: 89834 | U33: 440926525045 | V33: 444879171839
A34: 27 | B34: AVA GAM Money Market Fund | C34: AVA Global Asset Managers Limited | D34: 1.407548e+09 | E34: 42385363 | F34: 0 | G34: 4985472.2 | H34: =(E34+F34)-G34 -> 37399891 | I34: 2.1945126e+09 | J34: =(I34/$I$76) -> 0.0003503868 | K34: 2.2966351e+09 | L34: =(K34/$K$76) -> 0.00035614821 | M34: =((K34-I34)/I34) -> 0.04653539 | N34: =(G34/K34) -> 0.0021707725 | O34: =H34/K34 -> 0.016284647 | P34: =K34/V34 -> 0.91647041 | Q34: =H34/V34 -> 0.014924397 | R34: 1 | S34: 1 | T34: 457 | U34: 2379663600 | V34: 2505956600
A35: 28 | B35: AXA Mansard Money Market Fund | C35: AXA Mansard Investments Limited | D35: 6.538134e+10 | E35: 2.6137872e+09 | F35: 0 | G35: 2.4787837e+08 | H35: =(E35+F35)-G35 -> 2.3659089e+09 | I35: 1.8080667e+11 | J35: =(I35/$I$76) -> 0.028868493 | K35: 1.7924705e+11 | L35: =(K35/$K$76) -> 0.027796544 | M35: =((K35-I35)/I35) -> -0.0086258973 | N35: =(G35/K35) -> 0.0013828867 | O35: =H35/K35 -> 0.013199151 | P35: =K35/V35 -> 1.0259286 | Q35: =H35/V35 -> 0.013541386 | R35: 1 | S35: 1 | T35: 42410 | U35: 1.7852458e+11 | V35: 1.747169e+11
A36: 29 | B36: CardinalStone Money Market Fund | C36: CardinalStone Asset Mgt. Limited | D36: 3.8612968e+10 | E36: 5.5819408e+08 | F36: 0 | G36: 48273555 | H36: =(E36+F36)-G36 -> 5.0992052e+08 | I36: 3.7081763e+10 | J36: =(I36/$I$76) -> 0.0059206588 | K36: 3.8551975e+10 | L36: =(K36/$K$76) -> 0.005978406 | M36: =((K36-I36)/I36) -> 0.039647856 | N36: =(G36/K36) -> 0.0012521681 | O36: =H36/K36 -> 0.013226833 | P36: =K36/V36 -> 1 | Q36: =H36/V36 -> 0.013226833 | R36: 1 | S36: 1 | T36: 2663 | U36: 3.7074663e+10 | V36: 3.8551975e+10
A37: 30 | B37: Chapel Hill Denham Money Market Fund | C37: Chapel Hill Denham Mgt. Limited | D37: 4.8631001e+10 | E37: 6.7637778e+08 | F37: 0 | G37: 79871284 | H37: =(E37+F37)-G37 -> 5.9650649e+08 | I37: 4.4270744e+10 | J37: =(I37/$I$76) -> 0.0070684873 | K37: 4.7345119e+10 | L37: =(K37/$K$76) -> 0.0073419934 | M37: =((K37-I37)/I37) -> 0.069444857 | N37: =(G37/K37) -> 0.0016870014 | O37: =H37/K37 -> 0.012599113 | P37: =K37/V37 -> 100.00024 | Q37: =H37/V37 -> 1.2599143 | R37: 100 | S37: 100 | T37: 12991 | U37: 4.4270628e+08 | V37: 4.7345004e+08
A38: 31 | B38: Comercio Partners Money Market Fund | C38: Comercio Partners Asset Management Limited | D38: 4.019821e+09 | E38: 1.4460254e+08 | F38: 0 | G38: 4967579.3 | H38: =(E38+F38)-G38 -> 1.3963496e+08 | I38: 3.4700593e+09 | J38: =(I38/$I$76) -> 0.00055404695 | K38: 3.8766754e+09 | L38: =(K38/$K$76) -> 0.00060117127 | M38: =((K38-I38)/I38) -> 0.11717842 | N38: =(G38/K38) -> 0.0012814019 | O38: =H38/K38 -> 0.036019255 | P38: =K38/V38 -> 0.99559345 | Q38: =H38/V38 -> 0.035860534 | R38: 1 | S38: 1 | T38: 892 | U38: 3.4711144e+09 | V38: 3.8938338e+09
A39: 32 | B39: Coral Money Market Fund | C39: FSDH Asset Management Ltd | D39: 1.1714663e+11 | E39: 1.7105555e+09 | F39: 0 | G39: 1.824943e+08 | H39: =(E39+F39)-G39 -> 1.5280612e+09 | I39: 1.0613801e+11 | J39: =(I39/$I$76) -> 0.016946523 | K39: 1.1360413e+11 | L39: =(K39/$K$76) -> 0.017617039 | M39: =((K39-I39)/I39) -> 0.070343556 | N39: =(G39/K39) -> 0.0016064054 | O39: =H39/K39 -> 0.013450754 | P39: =K39/V39 -> 100 | Q39: =H39/V39 -> 1.3450754 | R39: 100 | S39: 100 | T39: 6679 | U39: 1.0613801e+09 | V39: 1.1360413e+09
... A52: 45 | B52: Greenwich Plus Money Market | C52: Greenwich Asst Management Ltd | D52: 4.1694855e+09 | E52: 5.2155483e+08 | F52: 0 | G52: 27052965 | H52: =(E52+F52)-G52 -> 4.9450186e+08 | I52: 1.4913289e+10 | J52: =(I52/$I$76) -> 0.00238113 | K52: 1.5636231e+10 | L52: =(K52/$K$76) -> 0.0024247717 | M52: =((K52-I52)/I52) -> 0.04847636 | N52: =(G52/K52) -> 0.0017301461 | O52: =H52/K52 -> 0.031625387 | P52: =K52/V52 -> 100.1048 | Q52: =H52/V52 -> 3.1658531 | R52: 100 | S52: 100 | T52: 1163 | U52: 151395356 | V52: 156198611
A53: 46 | B53: GTI Money Market Fund | C53: GTI Asset Management & Trust Limited | D53: 2.2161361e+08 | E53: 3315571 | F53: 0 | G53: 329897.78 | H53: 2221712.9 | I53: 2.4038971e+08 | J53: =(I53/$I$76) -> 3.8381817e-05 | K53: 2.8909002e+08 | L53: =(K53/$K$76) -> 4.4830323e-05 | M53: =((K53-I53)/I53) -> 0.202589 | N53: =(G53/K53) -> 0.0011411594 | O53: =H53/K53 -> 0.007685194 | P53: =K53/V53 -> 1.585819 | Q53: =H53/V53 -> 0.012187327 | R53: 1.16 | S53: 1.16 | T53: 166 | U53: 2.2555129e+08 | V53: 1.8229698e+08
A54: 47 | B54: Guaranty Trust Investment Fund 724 | C54: Guaranty Trust Fund Managers Limited | D54: 6.5118213e+09 | E54: 94620179 | F54: 0 | G54: 7590793.1 | H54: =(E54+F54)-G54 -> 87029386 | I54: 5.7397607e+09 | J54: =(I54/$I$76) -> 0.00091643877 | K54: 6.5785624e+09 | L54: =(K54/$K$76) -> 0.0010201635 | M54: =((K54-I54)/I54) -> 0.14613879 | N54: =(G54/K54) -> 0.0011538681 | O54: =H54/K54 -> 0.013229241 | P54: =K54/V54 -> 100 | Q54: =H54/V54 -> 1.3229241 | R54: 100 | S54: 100 | T54: 27437 | U54: 57397607 | V54: 65785624
...

Sheet NAV Comparison
A4: FUNDS | B4: Jul 2026 | C4: Aug 2026
A5: EQUITY BASED FUNDS | B5: 241.38587 | C5: =August!K25/1000000000 -> 233.72279
A6: MONEY MARKET FUNDS | B6: 6263.1143 | C6: =August!K76/1000000000 -> 6448.5374
A7: BONDS/FIXED INCOME FUNDS | B7: 232.74981 | C7: =August!K117/1000000000 -> 235.10588
A8: DOLLAR FUNDS | B8: 1819.397 | C8: =August!K161/1000000000 -> 1752.5098
A9: REAL ESTATE INVESTMENT TRUST | B9: 519.10572 | C9: =August!K170/1000000000 -> 522.41816
A10: BALANCED FUNDS | B10: 155.82342 | C10: =August!K203/1000000000 -> 157.76147
A11: ETHICAL FUNDS | B11: 19.720978 | C11: =August!K209/1000000000 -> 19.659122
A12: SHARI'AH COMPLAINT FUNDS | B12: 145.25147 | C12: =August!K237/1000000000 -> 147.96295
A13: SPECIALISED FUNDS | B13: 52.848096 | C13: =August!K248/1000000000 -> 53.951384

Sheet Market Share
A1: FUNDS | B1: Aug 2026
A2: ETHICAL FUNDS | B2: =August!K209 -> 1.9659122e+10
A3: SPECIALISED FUNDS | B3: =August!K248 -> 5.3951384e+10
A4: SHARI'AH COMPLAINT FUNDS | B4: =August!K237 -> 1.4796295e+11
A5: EQUITY BASED FUNDS | B5: =August!K25 -> 2.3372279e+11
A6: BALANCED FUNDS | B6: =August!K203 -> 1.5776147e+11
A7: BONDS/FIXED INCOME FUNDS | B7: =August!K117 -> 2.3510588e+11
A8: REAL ESTATE INVESTMENT TRUST | B8: =August!K170 -> 5.2241816e+11
A9: DOLLAR FUNDS | B9: =August!K161 -> 1.7525098e+12
A10: MONEY MARKET FUNDS | B10: =August!K76 -> 6.4485374e+12

Sheet Unitholders
A5: FUNDS | B5: UNIT HOLDERS
A6: EQUITY BASED FUNDS | B6: =August!T25 -> 113122
A7: MONEY MARKET FUNDS | B7: =August!T76 -> 821628
A8: BONDS/FIXED INCOME FUNDS | B8: =August!T117 -> 69339
A9: DOLLAR FUNDS | B9: =August!T161 -> 31548
A10: REAL ESTATE INVESTMENT TRUST | B10: =August!T170 -> 232429
A11: BALANCED FUNDS | B11: =August!T203 -> 105225
A12: ETHICAL FUNDS | B12: =August!T209 -> 19674
A13: SHARI'AH COMPLAINT FUNDS | B13: =August!T237 -> 61488
A14: SPECIALISED FUNDS | B14: =August!T248 -> 291
